BEGIN:VCALENDAR
VERSION:2.0
PRODID:-//Consejo Juventud CyL - ECPv6.15.15//NONSGML v1.0//EN
CALSCALE:GREGORIAN
METHOD:PUBLISH
X-ORIGINAL-URL:https://www.cjcyl.es
X-WR-CALDESC:Eventos para Consejo Juventud CyL
REFRESH-INTERVAL;VALUE=DURATION:PT1H
X-Robots-Tag:noindex
X-PUBLISHED-TTL:PT1H
BEGIN:VTIMEZONE
TZID:Europe/Paris
BEGIN:DAYLIGHT
TZOFFSETFROM:+0100
TZOFFSETTO:+0200
TZNAME:CEST
DTSTART:20240331T010000
END:DAYLIGHT
BEGIN:STANDARD
TZOFFSETFROM:+0200
TZOFFSETTO:+0100
TZNAME:CET
DTSTART:20241027T010000
END:STANDARD
BEGIN:DAYLIGHT
TZOFFSETFROM:+0100
TZOFFSETTO:+0200
TZNAME:CEST
DTSTART:20250330T010000
END:DAYLIGHT
BEGIN:STANDARD
TZOFFSETFROM:+0200
TZOFFSETTO:+0100
TZNAME:CET
DTSTART:20251026T010000
END:STANDARD
BEGIN:DAYLIGHT
TZOFFSETFROM:+0100
TZOFFSETTO:+0200
TZNAME:CEST
DTSTART:20260329T010000
END:DAYLIGHT
BEGIN:STANDARD
TZOFFSETFROM:+0200
TZOFFSETTO:+0100
TZNAME:CET
DTSTART:20261025T010000
END:STANDARD
END:VTIMEZONE
BEGIN:VEVENT
DTSTART;TZID=Europe/Paris:20250207T080000
DTEND;TZID=Europe/Paris:20250207T170000
DTSTAMP:20260422T110528
CREATED:20250129T162307Z
LAST-MODIFIED:20250129T162821Z
UID:9798-1738915200-1738947600@www.cjcyl.es
SUMMARY:Actívate: Ojazos Fest
DESCRIPTION:El Consejo de la Juventud de Castilla y León\, en colaboración con ASPAYM Castilla y León Juventud y con la financiación del Instituto de la Juventud de Castilla y León\, organizan Actívate – Ojazos Fest (Asamblea Nacional II ESN). \nDESTINATARIOS \n\nJuventud de Castilla y León\, menor de 35 años.\n\nMODALIDAD\, DURACIÓN  Y FECHAS \n\nModalidad: Presencial.\nLugar: Cúpula del Milenio\, Valladolid.\nInicio: Viernes 7 de febrero.\nHora: Por determinar.\n\nNÚMERO DE PARTICIPANTES \n\nPlazas limitadas.\n\nINFORMACIÓN E INSCRIPCIÓN ACTIVIDAD \n\nPara consultar más información y/o inscribirte\, envía un correo a activate@aspaymcyl.org  Si necesitas asistencia personal\, recuerda avisar 10 días antes.
URL:https://www.cjcyl.es/actividad-del-calendario/activate-ojazos-fest/
LOCATION:Cúpula del Milenio – Valladolid
ATTACH;FMTTYPE=image/png:https://www.cjcyl.es/wp-content/uploads/2023/03/cabecera-actívate-1.png
END:VEVENT
BEGIN:VEVENT
DTSTART;TZID=Europe/Paris:20250211T180000
DTEND;TZID=Europe/Paris:20250211T200000
DTSTAMP:20260422T110528
CREATED:20250129T162446Z
LAST-MODIFIED:20250129T162811Z
UID:9804-1739296800-1739304000@www.cjcyl.es
SUMMARY:Actívate: Reproduciendo el Arte\, Viviendo a Cervantes
DESCRIPTION:El Consejo de la Juventud de Castilla y León\, en colaboración con ASPAYM Castilla y León Juventud y con la financiación del Instituto de la Juventud de Castilla y León\, organizan Actívate – Reproduciendo el Arte\, Viviendo a Cervantes. \nDESTINATARIOS \n\nJuventud de Castilla y León\, menor de 35 años.\n\nMODALIDAD\, DURACIÓN  Y FECHAS \n\nModalidad: Presencial.\nLugar: Museo Nacional de Escultura\, Valladolid.\nInicio: Martes 11 de febrero.\nHora: De 18:00h a 20:00 horas.\n\nNÚMERO DE PARTICIPANTES \n\nPlazas limitadas.\n\nINFORMACIÓN E INSCRIPCIÓN ACTIVIDAD \n\nPara consultar más información y/o inscribirte\, envía un correo a activate@aspaymcyl.org  Si necesitas asistencia personal\, recuerda avisar 10 días antes.
URL:https://www.cjcyl.es/actividad-del-calendario/activate-reproduciendo-el-arte-viviendo-a-cervantes/
LOCATION:Museo Nacional de Escultura – Valladolid
ATTACH;FMTTYPE=image/png:https://www.cjcyl.es/wp-content/uploads/2023/03/cabecera-actívate-1.png
END:VEVENT
BEGIN:VEVENT
DTSTART;TZID=Europe/Paris:20250218T080000
DTEND;TZID=Europe/Paris:20250218T170000
DTSTAMP:20260422T110528
CREATED:20250129T162626Z
LAST-MODIFIED:20250129T165846Z
UID:9809-1739865600-1739898000@www.cjcyl.es
SUMMARY:Actívate: Construyendo ciudad juntos
DESCRIPTION:El Consejo de la Juventud de Castilla y León\, en colaboración con ASPAYM Castilla y León Juventud y con la financiación del Instituto de la Juventud de Castilla y León\, organizan Actívate – Construyendo ciudad juntos. \nDESTINATARIOS \n\nJuventud de Castilla y León\, menor de 35 años.\n\nMODALIDAD\, DURACIÓN  Y FECHAS \n\nModalidad: Presencial.\nLugar: Ayuntamiento de Valladolid.\nInicio: Por determinar.\nHora: Por determinar.\n\nNÚMERO DE PARTICIPANTES \n\nPlazas limitadas.\n\nINFORMACIÓN E INSCRIPCIÓN ACTIVIDAD \n\nPara consultar más información y/o inscribirte\, envía un correo a activate@aspaymcyl.org  Si necesitas asistencia personal\, recuerda avisar 10 días antes.
URL:https://www.cjcyl.es/actividad-del-calendario/activate-construyendo-ciudad-juntos/
LOCATION:Ayuntamiento de Valladolid\, Pl. Mayor\, 1\, 47001 Valladolid\, Valladolid\, Valladolid\, 47001
ATTACH;FMTTYPE=image/png:https://www.cjcyl.es/wp-content/uploads/2023/03/cabecera-actívate-1.png
END:VEVENT
BEGIN:VEVENT
DTSTART;TZID=Europe/Paris:20250225T180000
DTEND;TZID=Europe/Paris:20250225T200000
DTSTAMP:20260422T110529
CREATED:20250129T162748Z
LAST-MODIFIED:20250129T162748Z
UID:9812-1740506400-1740513600@www.cjcyl.es
SUMMARY:Actívate: Aroma encantado
DESCRIPTION:El Consejo de la Juventud de Castilla y León\, en colaboración con ASPAYM Castilla y León Juventud y con la financiación del Instituto de la Juventud de Castilla y León\, organizan Actívate – Aroma encantado. \nDESTINATARIOS \n\nJuventud de Castilla y León\, menor de 35 años.\n\nMODALIDAD\, DURACIÓN  Y FECHAS \n\nModalidad: Presencial.\nLugar: Sede ASPAYM CyL\, Valladolid.\nInicio: Martes 25 de febrero.\nHora: De 18:00h a 20:00 horas.\n\nNÚMERO DE PARTICIPANTES \n\nPlazas limitadas.\n\nINFORMACIÓN E INSCRIPCIÓN ACTIVIDAD \n\nPara consultar más información y/o inscribirte\, envía un correo a activate@aspaymcyl.org  Si necesitas asistencia personal\, recuerda avisar 10 días antes.
URL:https://www.cjcyl.es/actividad-del-calendario/activate-aroma-encantado/
LOCATION:Sede de ASPAYM CyL (Edificio Julio Herrero)\, C/ Treviño\, 74\, Valladolid\, Valladolid\, 47008\, España
ATTACH;FMTTYPE=image/png:https://www.cjcyl.es/wp-content/uploads/2023/03/cabecera-actívate-1.png
END:VEVENT
END:VCALENDAR